0.25
0
0
-0.25
614690.32237
4706300.67123
