0.25
0
0
-0.25
594179.70806
4703669.40865
