0.25
0
0
-0.25
594210.90892
4701356.23155
