0.25
0
0
-0.25
607986.0638
4696935.04504
