0.25
0
0
-0.25
608057.51543
4692308.7218
