0.25
0
0
-0.25
618348.94223
4692480.27916
