0.25
0
0
-0.25
625085.74452
4699542.78028
