0.25
0
0
-0.25
625251.39845
4690289.79432
