0.25
0
0
-0.25
632114.94459
4690419.23611
