0.25
0
0
-0.25
655879.38107
4702491.92953
