0.25
0
0
-0.25
590995.24121
4685116.97221
