0.25
0
0
-0.25
608200.26775
4683056.01988
