0.25
0
0
-0.25
615070.33598
4683168.64088
