0.25
0
0
-0.25
601363.59438
4680636.97031
