0.25
0
0
-0.25
597991.87914
4675960.29024
