0.25
0
0
-0.25
611819.05268
4671545.70962
