0.25
0
0
-0.25
621940.35961
4683288.00034
