0.25
0
0
-0.25
622020.74101
4678661.62628
