0.25
0
0
-0.25
628895.47505
4678787.61725
