0.25
0
0
-0.25
628937.87697
4676474.4657
