0.25
0
0
-0.25
598152.73761
4664394.64553
