0.25
0
0
-0.25
615373.22299
4664663.48809
