0.25
0
0
-0.25
594801.58385
4657406.59779
