1
0
0
-1
620730.277566312
4748172.39029317
