1
0
0
-1
627539.128868244
4748298.74964331
