1
0
0
-1
566309.127481877
4742777.83585483
