1
0
0
-1
580158.946644789
4724422.39118838
