1
0
0
-1
587050.597197289
4719881.71301475
