1
0
0
-1
566589.675173457
4715017.72260749
