1
0
0
-1
600791.831878881
4715447.15057214
