1
0
0
-1
608295.547728057
4673915.7560854
