1
0
0
-1
628765.825665493
4683526.28268526
