1
0
0
-1
622058.39749695
4674147.68332934
