1
0
0
-1
594597.061658961
4669084.52486635
