1
0
0
-1
608515.530085935
4660037.07050162
