1
0
0
-1
629460.858416739
4646516.25320934
