1
0
0
-1
613208.154873712
4789696.10313542
