2.5
0
0
-2.5
608756.333296938
4641726.62461546
