2.5
0
0
-2.5
647353.507933858
4772066.41528822
