2.5
0
0
-2.5
633777.959629997
4771773.35743808
