0.25
0
0
-0.25
559572.73614
4744913.69184
