0.25
0
0
-0.25
569785.68335
4745014.51502
