0.25
0
0
-0.25
617168.42482
4761880.37262
