0.25
0
0
-0.25
600220.97775
4759288.97055
