0.25
0
0
-0.25
617247.55336
4757253.44082
