0.25
0
0
-0.25
610487.75062
4754823.7916
