0.25
0
0
-0.25
613964.19888
4750254.14596
