0.25
0
0
-0.25
617366.13172
4750313.10807
