0.25
0
0
-0.25
593584.01318
4747622.34928
