0.25
0
0
-0.25
620564.68232
4761940.97183
